BEGIN:VCALENDAR
VERSION:2.0
PRODID:-//Farsley Farfield Primary School - ECPv6.15.17.1//NONSGML v1.0//EN
CALSCALE:GREGORIAN
METHOD:PUBLISH
X-WR-CALNAME:Farsley Farfield Primary School
X-ORIGINAL-URL:https://www.farsleyfarfield.org.uk
X-WR-CALDESC:Events for Farsley Farfield Primary School
REFRESH-INTERVAL;VALUE=DURATION:PT1H
X-Robots-Tag:noindex
X-PUBLISHED-TTL:PT1H
BEGIN:VTIMEZONE
TZID:Europe/London
BEGIN:DAYLIGHT
TZOFFSETFROM:+0000
TZOFFSETTO:+0100
TZNAME:BST
DTSTART:20240331T010000
END:DAYLIGHT
BEGIN:STANDARD
TZOFFSETFROM:+0100
TZOFFSETTO:+0000
TZNAME:GMT
DTSTART:20241027T010000
END:STANDARD
BEGIN:DAYLIGHT
TZOFFSETFROM:+0000
TZOFFSETTO:+0100
TZNAME:BST
DTSTART:20250330T010000
END:DAYLIGHT
BEGIN:STANDARD
TZOFFSETFROM:+0100
TZOFFSETTO:+0000
TZNAME:GMT
DTSTART:20251026T010000
END:STANDARD
BEGIN:DAYLIGHT
TZOFFSETFROM:+0000
TZOFFSETTO:+0100
TZNAME:BST
DTSTART:20260329T010000
END:DAYLIGHT
BEGIN:STANDARD
TZOFFSETFROM:+0100
TZOFFSETTO:+0000
TZNAME:GMT
DTSTART:20261025T010000
END:STANDARD
END:VTIMEZONE
BEGIN:VEVENT
DTSTART;TZID=Europe/London:20251014T173000
DTEND;TZID=Europe/London:20251014T200000
DTSTAMP:20260421T124227
CREATED:20250926T083722Z
LAST-MODIFIED:20250926T083841Z
UID:57585-1760463000-1760472000@www.farsleyfarfield.org.uk
SUMMARY:PTA Halloween Disco
DESCRIPTION:5:30-6:00 pm Quiet disco \n6:00-7:00 pm Infant disco \n7:00-8:00 pm Junior disco
URL:https://www.farsleyfarfield.org.uk/event/pta-halloween-disco/
CATEGORIES:PTA event
END:VEVENT
END:VCALENDAR