BEGIN:VCALENDAR
VERSION:2.0
PRODID:-//Farsley Farfield Primary School - ECPv6.15.17.1//NONSGML v1.0//EN
CALSCALE:GREGORIAN
METHOD:PUBLISH
X-WR-CALNAME:Farsley Farfield Primary School
X-ORIGINAL-URL:https://www.farsleyfarfield.org.uk
X-WR-CALDESC:Events for Farsley Farfield Primary School
REFRESH-INTERVAL;VALUE=DURATION:PT1H
X-Robots-Tag:noindex
X-PUBLISHED-TTL:PT1H
BEGIN:VTIMEZONE
TZID:UTC
BEGIN:STANDARD
TZOFFSETFROM:+0000
TZOFFSETTO:+0000
TZNAME:UTC
DTSTART:20210101T000000
END:STANDARD
END:VTIMEZONE
BEGIN:VEVENT
DTSTART;VALUE=DATE:20220702
DTEND;VALUE=DATE:20220703
DTSTAMP:20260424T063649
CREATED:20220626T105214Z
LAST-MODIFIED:20220626T105214Z
UID:13265-1656720000-1656806399@www.farsleyfarfield.org.uk
SUMMARY:PTA Campover
DESCRIPTION:
URL:https://www.farsleyfarfield.org.uk/event/pta-campover/
CATEGORIES:PTA event
END:VEVENT
BEGIN:VEVENT
DTSTART;TZID=UTC:20220706T183000
DTEND;TZID=UTC:20220706T193000
DTSTAMP:20260424T063649
CREATED:20220509T182147Z
LAST-MODIFIED:20220509T182147Z
UID:13180-1657132200-1657135800@www.farsleyfarfield.org.uk
SUMMARY:PTA meeting
DESCRIPTION:Remote PTA meeting
URL:https://www.farsleyfarfield.org.uk/event/pta-meeting-6/
CATEGORIES:PTA event
END:VEVENT
END:VCALENDAR