BEGIN:VCALENDAR
VERSION:2.0
PRODID:-//Farsley Farfield Primary School - ECPv6.15.17.1//NONSGML v1.0//EN
CALSCALE:GREGORIAN
METHOD:PUBLISH
X-ORIGINAL-URL:https://www.farsleyfarfield.org.uk
X-WR-CALDESC:Events for Farsley Farfield Primary School
REFRESH-INTERVAL;VALUE=DURATION:PT1H
X-Robots-Tag:noindex
X-PUBLISHED-TTL:PT1H
BEGIN:VTIMEZONE
TZID:UTC
BEGIN:STANDARD
TZOFFSETFROM:+0000
TZOFFSETTO:+0000
TZNAME:UTC
DTSTART:20200101T000000
END:STANDARD
END:VTIMEZONE
BEGIN:VEVENT
DTSTART;TZID=UTC:20211111T150000
DTEND;TZID=UTC:20211111T160000
DTSTAMP:20260424T191325
CREATED:20211111T155816Z
LAST-MODIFIED:20211111T171305Z
UID:12822-1636642800-1636646400@www.farsleyfarfield.org.uk
SUMMARY:PTA beanie hat sale for Children in Need
DESCRIPTION:Members of the PTA will be selling CIN beanie hats after school on both the infant and junior playground.  £2 each.
URL:https://www.farsleyfarfield.org.uk/event/pta-beanie-hat-sale-for-children-in-need/
CATEGORIES:PTA event
END:VEVENT
BEGIN:VEVENT
DTSTART;TZID=UTC:20211129T150000
DTEND;TZID=UTC:20211129T160000
DTSTAMP:20260424T191325
CREATED:20211111T160056Z
LAST-MODIFIED:20211111T171126Z
UID:12824-1638198000-1638201600@www.farsleyfarfield.org.uk
SUMMARY:PTA - Outdoor Christmas stalls and games
DESCRIPTION:The PTA will be hosting a Christmas stall to help spread a little Christmas magic as we approach the festive season.  There will be one located in the Infant and Junior Playground after school w/c 29th November(Monday\, Wednesday\, Friday) and w/c 6thDecember (Thursday and Friday).  We will be selling Reindeer food and Santa bells for Christmas Eve\, Sweet and hot chocolate cones and recycled Christmas Jumpers\, ready for National Christmas jumper day on 10th December.
URL:https://www.farsleyfarfield.org.uk/event/pta-outdoor-christmas-stalls-and-games/
CATEGORIES:PTA event
END:VEVENT
BEGIN:VEVENT
DTSTART;TZID=UTC:20211129T183000
DTEND;TZID=UTC:20211129T193000
DTSTAMP:20260424T191325
CREATED:20211113T084715Z
LAST-MODIFIED:20211113T084715Z
UID:12850-1638210600-1638214200@www.farsleyfarfield.org.uk
SUMMARY:PTA meeting
DESCRIPTION:
URL:https://www.farsleyfarfield.org.uk/event/pta-meeting/
CATEGORIES:PTA event
END:VEVENT
END:VCALENDAR